BEGIN:VCALENDAR
VERSION:2.0
PRODID:-// - ECPv5.8.1//NONSGML v1.0//EN
CALSCALE:GREGORIAN
METHOD:PUBLISH
X-ORIGINAL-URL:https://solignac.fr
X-WR-CALDESC:évènements pour 
BEGIN:VTIMEZONE
TZID:Europe/Paris
BEGIN:DAYLIGHT
TZOFFSETFROM:+0100
TZOFFSETTO:+0200
TZNAME:CEST
DTSTART:20240331T010000
END:DAYLIGHT
BEGIN:STANDARD
TZOFFSETFROM:+0200
TZOFFSETTO:+0100
TZNAME:CET
DTSTART:20241027T010000
END:STANDARD
END:VTIMEZONE
BEGIN:VEVENT
DTSTART;TZID=Europe/Paris:20240708T100000
DTEND;TZID=Europe/Paris:20240811T190000
DTSTAMP:20260424T175627
CREATED:20240627T121335Z
LAST-MODIFIED:20240627T121335Z
UID:4501-1720432800-1723402800@solignac.fr
SUMMARY:Boutique éphémère
DESCRIPTION:Du 8 juillet au 11 août\, venez découvrir créateurs\, et artisans à la Maison de la Fanfare. \nEntrée libre !
URL:https://solignac.fr/event/boutique-ephemere/
LOCATION:Maison de la Fanfare\, 1 rue de la Peyrade\, Solignac\, 87110\, France
ATTACH;FMTTYPE=image/jpeg:https://solignac.fr/wp-content/uploads/2024/06/FANFARE.jpg
END:VEVENT
BEGIN:VEVENT
DTSTART;TZID=Europe/Paris:20240711T150000
DTEND;TZID=Europe/Paris:20240728T190000
DTSTAMP:20260424T175627
CREATED:20240628T072439Z
LAST-MODIFIED:20240628T072439Z
UID:4505-1720710000-1722193200@solignac.fr
SUMMARY:Expositions
DESCRIPTION:Du 11 au 28 juillet 2024 de 15h à 19h venez découvrir les sculptures de Jean-Martial MOREAU et les œuvres de Olivier JULIA.
URL:https://solignac.fr/event/expositions/
LOCATION:Moulin de Quatre
ATTACH;FMTTYPE=image/jpeg:https://solignac.fr/wp-content/uploads/2024/06/MOULIN.jpg
END:VEVENT
BEGIN:VEVENT
DTSTART;TZID=Europe/Paris:20240712T223000
DTEND;TZID=Europe/Paris:20240712T233000
DTSTAMP:20260424T175627
CREATED:20240308T134137Z
LAST-MODIFIED:20240627T121548Z
UID:4206-1720823400-1720827000@solignac.fr
SUMMARY:Feu d'artifice du 14 juillet
DESCRIPTION:
URL:https://solignac.fr/event/feu-dartifice-du-14-juillet/
LOCATION:Stade de Solignac
ATTACH;FMTTYPE=image/jpeg:https://solignac.fr/wp-content/uploads/2024/03/affiche-12-et-13-V12_page-0001.jpg
END:VEVENT
END:VCALENDAR