BEGIN:VCALENDAR
VERSION:2.0
PRODID:-// - ECPv5.8.1//NONSGML v1.0//EN
CALSCALE:GREGORIAN
METHOD:PUBLISH
X-ORIGINAL-URL:https://solignac.fr
X-WR-CALDESC:évènements pour 
BEGIN:VTIMEZONE
TZID:Europe/Paris
BEGIN:DAYLIGHT
TZOFFSETFROM:+0100
TZOFFSETTO:+0200
TZNAME:CEST
DTSTART:20240331T010000
END:DAYLIGHT
BEGIN:STANDARD
TZOFFSETFROM:+0200
TZOFFSETTO:+0100
TZNAME:CET
DTSTART:20241027T010000
END:STANDARD
END:VTIMEZONE
BEGIN:VEVENT
DTSTART;TZID=Europe/Paris:20240806T143000
DTEND;TZID=Europe/Paris:20240831T190000
DTSTAMP:20260424T151831
CREATED:20240711T143609Z
LAST-MODIFIED:20240711T143609Z
UID:4551-1722954600-1725130800@solignac.fr
SUMMARY:Exposition - Moulin de Quatre
DESCRIPTION:Du 6 au 31 août 2024\, venez découvrir les expositions des artistes Francine THIBAUD et de Laëticia RIBIERE. Tous les jours de 14h00 à 19h00.
URL:https://solignac.fr/event/exposition-moulin-de-quatre/
LOCATION:Moulin de Quatre
ATTACH;FMTTYPE=image/jpeg:https://solignac.fr/wp-content/uploads/2024/07/MOULIN-scaled.jpg
END:VEVENT
BEGIN:VEVENT
DTSTART;TZID=Europe/Paris:20240812T143000
DTEND;TZID=Europe/Paris:20240831T183000
DTSTAMP:20260424T151831
CREATED:20240711T143209Z
LAST-MODIFIED:20240711T143441Z
UID:4548-1723473000-1725129000@solignac.fr
SUMMARY:Exposition - Maison de la Fanfare
DESCRIPTION:Du 12 au 30 août 2024 venez découvrir une exposition photographie des artistes Philippes CRUVEILHER\, Daniel LECOUSIN\, et de Laëticia HOFFSCHIR. \nEntrée libre tous les jours de 14h30 à 18h30.
URL:https://solignac.fr/event/exposition-maison-de-la-fanfare/
LOCATION:Maison de la Fanfare\, 1 rue de la Peyrade\, Solignac\, 87110\, France
ATTACH;FMTTYPE=image/jpeg:https://solignac.fr/wp-content/uploads/2024/07/SOLIGNAC-affiche.jpg
END:VEVENT
END:VCALENDAR