BEGIN:VCALENDAR
VERSION:2.0
PRODID:-// - ECPv5.8.1//NONSGML v1.0//EN
CALSCALE:GREGORIAN
METHOD:PUBLISH
X-ORIGINAL-URL:https://solignac.fr
X-WR-CALDESC:évènements pour 
BEGIN:VTIMEZONE
TZID:Europe/Paris
BEGIN:DAYLIGHT
TZOFFSETFROM:+0100
TZOFFSETTO:+0200
TZNAME:CEST
DTSTART:20240331T010000
END:DAYLIGHT
BEGIN:STANDARD
TZOFFSETFROM:+0200
TZOFFSETTO:+0100
TZNAME:CET
DTSTART:20241027T010000
END:STANDARD
END:VTIMEZONE
BEGIN:VEVENT
DTSTART;TZID=Europe/Paris:20241006T160000
DTEND;TZID=Europe/Paris:20241006T170000
DTSTAMP:20260424T140750
CREATED:20240926T094303Z
LAST-MODIFIED:20240926T094443Z
UID:4709-1728230400-1728234000@solignac.fr
SUMMARY:La Ballade
DESCRIPTION:Dans le cadre de la campagne de dépistage et prévention contre le cancer du sein\, la chorale La Ballade organise une représentation chant choral le dimanche 6 octobre à 16h00 à la salle des fêtes de Solignac \nParticipation libre au profit de la Ligue contre le cancer. \nPour plus d’information et/ou faire un don: https://www.ligue-cancer.net/octobre-rose
URL:https://solignac.fr/event/la-ballade/
LOCATION:Salle des fêtes de Solignac
ATTACH;FMTTYPE=image/jpeg:https://solignac.fr/wp-content/uploads/2024/09/20240926091637565_0001-scaled.jpg
END:VEVENT
END:VCALENDAR