BEGIN:VCALENDAR
VERSION:2.0
PRODID:-// - ECPv5.8.1//NONSGML v1.0//EN
CALSCALE:GREGORIAN
METHOD:PUBLISH
X-ORIGINAL-URL:https://solignac.fr
X-WR-CALDESC:évènements pour 
BEGIN:VTIMEZONE
TZID:Europe/Paris
BEGIN:DAYLIGHT
TZOFFSETFROM:+0100
TZOFFSETTO:+0200
TZNAME:CEST
DTSTART:20240331T010000
END:DAYLIGHT
BEGIN:STANDARD
TZOFFSETFROM:+0200
TZOFFSETTO:+0100
TZNAME:CET
DTSTART:20241027T010000
END:STANDARD
END:VTIMEZONE
BEGIN:VEVENT
DTSTART;TZID=Europe/Paris:20241207T200000
DTEND;TZID=Europe/Paris:20241207T233000
DTSTAMP:20260424T114509
CREATED:20241114T152055Z
LAST-MODIFIED:20241118T081238Z
UID:4817-1733601600-1733614200@solignac.fr
SUMMARY:Bal Trad à Solignac
DESCRIPTION:Une belle soirée en perspective avec le groupe Trad\, « Des Fourmis dans les pieds » avec  ses 9 musiciens pour vous faire  entrer dans la danse! \nSalle des Fêtes de Solignac \, rue de la Peyrade\, ouverture des portes à 20h. \nBuvette du Comité des Fêtes
URL:https://solignac.fr/event/bal-trad-a-solignac/
LOCATION:Salle des fêtes de Solignac
ATTACH;FMTTYPE=image/jpeg:https://solignac.fr/wp-content/uploads/2024/11/affiche-trad-7dec_page-0001.jpg
END:VEVENT
END:VCALENDAR