BEGIN:VCALENDAR
VERSION:2.0
PRODID:-// - ECPv5.8.1//NONSGML v1.0//EN
CALSCALE:GREGORIAN
METHOD:PUBLISH
X-ORIGINAL-URL:https://solignac.fr
X-WR-CALDESC:évènements pour 
BEGIN:VTIMEZONE
TZID:Europe/Paris
BEGIN:DAYLIGHT
TZOFFSETFROM:+0100
TZOFFSETTO:+0200
TZNAME:CEST
DTSTART:20240331T010000
END:DAYLIGHT
BEGIN:STANDARD
TZOFFSETFROM:+0200
TZOFFSETTO:+0100
TZNAME:CET
DTSTART:20241027T010000
END:STANDARD
END:VTIMEZONE
BEGIN:VEVENT
DTSTART;TZID=Europe/Paris:20240525T143000
DTEND;TZID=Europe/Paris:20240623T183000
DTSTAMP:20260424T180248
CREATED:20240429T081406Z
LAST-MODIFIED:20240429T081427Z
UID:4351-1716647400-1719167400@solignac.fr
SUMMARY:Exposition peinture
DESCRIPTION:Du 25 mai 2024 au 23 juin 2024 à la Maison de la Fanfare\, venez découvrir une exposition photo de 14h00 à 18h30. \nEntrée gratuite ! \nVernissage le 25 mai 2024 à partir de 18h00.
URL:https://solignac.fr/event/exposition-peinture/
LOCATION:Maison de la Fanfare\, 1 rue de la Peyrade\, Solignac\, 87110\, France
ATTACH;FMTTYPE=image/jpeg:https://solignac.fr/wp-content/uploads/2024/04/EXPO-PEINTURE.jpg
END:VEVENT
BEGIN:VEVENT
DTSTART;TZID=Europe/Paris:20240606T143000
DTEND;TZID=Europe/Paris:20240606T183000
DTSTAMP:20260424T180248
CREATED:20240308T133830Z
LAST-MODIFIED:20240409T115939Z
UID:4196-1717684200-1717698600@solignac.fr
SUMMARY:Conviviale des aînés
DESCRIPTION:
URL:https://solignac.fr/event/conviviale-des-aines/
LOCATION:Salle des fêtes de Solignac
ATTACH;FMTTYPE=image/png:https://solignac.fr/wp-content/uploads/2024/03/AFFICHE-CONVIVIALE-JUIN.png
END:VEVENT
BEGIN:VEVENT
DTSTART;TZID=Europe/Paris:20240621T170000
DTEND;TZID=Europe/Paris:20240621T233000
DTSTAMP:20260424T180248
CREATED:20240308T133921Z
LAST-MODIFIED:20240530T093719Z
UID:4199-1718989200-1719012600@solignac.fr
SUMMARY:Fête de la musique
DESCRIPTION:Solignac s’affirme peu à peu comme un rendez-vous marquant de la fête de la musique. \nCette année encore nous faisons en sorte d’accueillir encore mieux les musiciens et le public. \nRendez vous au Moulin de Quatre sur la place de la Briance à partir de 19h pour une soirée avec une programmation originale et variée. \nSur place restauration légère par les commerçants et buvette du Comité des Fêtes. \nEn cas de pluie\, le repli est prévu à la salle des Fêtes.
URL:https://solignac.fr/event/fete-de-la-musique-2/
LOCATION:Moulin de Quatre
ATTACH;FMTTYPE=image/jpeg:https://solignac.fr/wp-content/uploads/2024/03/aff-fete-musique-2024_page-0001-scaled.jpg
END:VEVENT
END:VCALENDAR