BEGIN:VCALENDAR
VERSION:2.0
PRODID:-// - ECPv5.8.1//NONSGML v1.0//EN
CALSCALE:GREGORIAN
METHOD:PUBLISH
X-ORIGINAL-URL:https://solignac.fr
X-WR-CALDESC:évènements pour 
BEGIN:VTIMEZONE
TZID:Europe/Paris
BEGIN:DAYLIGHT
TZOFFSETFROM:+0100
TZOFFSETTO:+0200
TZNAME:CEST
DTSTART:20240331T010000
END:DAYLIGHT
BEGIN:STANDARD
TZOFFSETFROM:+0200
TZOFFSETTO:+0100
TZNAME:CET
DTSTART:20241027T010000
END:STANDARD
END:VTIMEZONE
BEGIN:VEVENT
DTSTART;TZID=Europe/Paris:20241003T183000
DTEND;TZID=Europe/Paris:20241003T203000
DTSTAMP:20260424T125458
CREATED:20240912T071345Z
LAST-MODIFIED:20240912T071345Z
UID:4679-1727980200-1727987400@solignac.fr
SUMMARY:Création d'un lieu conviviale
DESCRIPTION:Plus d’information auprès d’Agathe Perego au 07 65 16 89 83.
URL:https://solignac.fr/event/creation-dun-lieu-conviviale-2/
ATTACH;FMTTYPE=image/jpeg:https://solignac.fr/wp-content/uploads/2024/09/20240912091255259_0001-rotated.jpg
END:VEVENT
BEGIN:VEVENT
DTSTART;TZID=Europe/Paris:20241006T160000
DTEND;TZID=Europe/Paris:20241006T170000
DTSTAMP:20260424T125458
CREATED:20240926T094303Z
LAST-MODIFIED:20240926T094443Z
UID:4709-1728230400-1728234000@solignac.fr
SUMMARY:La Ballade
DESCRIPTION:Dans le cadre de la campagne de dépistage et prévention contre le cancer du sein\, la chorale La Ballade organise une représentation chant choral le dimanche 6 octobre à 16h00 à la salle des fêtes de Solignac \nParticipation libre au profit de la Ligue contre le cancer. \nPour plus d’information et/ou faire un don: https://www.ligue-cancer.net/octobre-rose
URL:https://solignac.fr/event/la-ballade/
LOCATION:Salle des fêtes de Solignac
ATTACH;FMTTYPE=image/jpeg:https://solignac.fr/wp-content/uploads/2024/09/20240926091637565_0001-scaled.jpg
END:VEVENT
BEGIN:VEVENT
DTSTART;TZID=Europe/Paris:20241014T183000
DTEND;TZID=Europe/Paris:20241014T210000
DTSTAMP:20260424T125458
CREATED:20240912T071429Z
LAST-MODIFIED:20240912T071429Z
UID:4681-1728930600-1728939600@solignac.fr
SUMMARY:Création d'un lieu conviviale
DESCRIPTION:Plus d’information auprès d’Agathe Perego au 07 65 16 89 83.
URL:https://solignac.fr/event/creation-dun-lieu-conviviale-3/
ATTACH;FMTTYPE=image/jpeg:https://solignac.fr/wp-content/uploads/2024/09/20240912091255259_0001-rotated.jpg
END:VEVENT
BEGIN:VEVENT
DTSTART;TZID=Europe/Paris:20241019T203000
DTEND;TZID=Europe/Paris:20241019T233000
DTSTAMP:20260424T125458
CREATED:20241010T132219Z
LAST-MODIFIED:20241010T132254Z
UID:4745-1729369800-1729380600@solignac.fr
SUMMARY:Spectacle
DESCRIPTION:Le samedi 19 octobre 2024\, venez découvrir un spectacle humoristique et décoiffant ! \nLe féminisme abordé par Florence KOLSKI\, professeur de sociologie spécialisé dans la pensée d’une autre.\nSalle des fêtes de Solignac à 20h30 !
URL:https://solignac.fr/event/spectacle/
LOCATION:Salle des fêtes de Solignac
ATTACH;FMTTYPE=image/jpeg:https://solignac.fr/wp-content/uploads/2024/10/20241010141714921_0001-rotated.jpg
END:VEVENT
BEGIN:VEVENT
DTSTART;TZID=Europe/Paris:20241020T150000
DTEND;TZID=Europe/Paris:20241020T190000
DTSTAMP:20260424T125458
CREATED:20240926T094418Z
LAST-MODIFIED:20240926T094418Z
UID:4713-1729436400-1729450800@solignac.fr
SUMMARY:Lions Club Solignac en Limousin
DESCRIPTION:Le Lions Club organise son “Cabaret” dimanche 20 octobre 2024 à 15h00 à la salle des fêtes de Solignac. \nRetrouvez le duo Christine et Line qui proposent un spectacle au profit des oeuvres sociales. \nTarif: \n\n17 euros (adulte)\ngratuit pour les enfants de – de 12 ans.\n\nRéservation au 06 60 50 69 30
URL:https://solignac.fr/event/lions-club-solignac-en-limousin/
ATTACH;FMTTYPE=image/jpeg:https://solignac.fr/wp-content/uploads/2024/09/AFFICHE-CABARET-2024-v3_page-0001.jpg
END:VEVENT
END:VCALENDAR