BEGIN:VCALENDAR
VERSION:2.0
PRODID:-// - ECPv5.8.1//NONSGML v1.0//EN
CALSCALE:GREGORIAN
METHOD:PUBLISH
X-ORIGINAL-URL:https://solignac.fr
X-WR-CALDESC:évènements pour 
BEGIN:VTIMEZONE
TZID:Europe/Paris
BEGIN:DAYLIGHT
TZOFFSETFROM:+0100
TZOFFSETTO:+0200
TZNAME:CEST
DTSTART:20260329T010000
END:DAYLIGHT
BEGIN:STANDARD
TZOFFSETFROM:+0200
TZOFFSETTO:+0100
TZNAME:CET
DTSTART:20261025T010000
END:STANDARD
END:VTIMEZONE
BEGIN:VEVENT
DTSTART;TZID=Europe/Paris:20260328T150000
DTEND;TZID=Europe/Paris:20260328T180000
DTSTAMP:20260421T152658
CREATED:20260219T083816Z
LAST-MODIFIED:20260219T083816Z
UID:5915-1774710000-1774720800@solignac.fr
SUMMARY:Atelier bricolage
DESCRIPTION:
URL:https://solignac.fr/event/atelier-bricolage/
LOCATION:Salle polyvalente du Vigen\, LE VIGEN
ATTACH;FMTTYPE=image/jpeg:https://solignac.fr/wp-content/uploads/2026/02/affiche-Paques.jpg
END:VEVENT
END:VCALENDAR