BEGIN:VCALENDAR
VERSION:2.0
PRODID:-// - ECPv5.8.1//NONSGML v1.0//EN
CALSCALE:GREGORIAN
METHOD:PUBLISH
X-ORIGINAL-URL:https://solignac.fr
X-WR-CALDESC:évènements pour 
BEGIN:VTIMEZONE
TZID:Europe/Paris
BEGIN:DAYLIGHT
TZOFFSETFROM:+0100
TZOFFSETTO:+0200
TZNAME:CEST
DTSTART:20220327T010000
END:DAYLIGHT
BEGIN:STANDARD
TZOFFSETFROM:+0200
TZOFFSETTO:+0100
TZNAME:CET
DTSTART:20221030T010000
END:STANDARD
END:VTIMEZONE
BEGIN:VEVENT
DTSTART;TZID=Europe/Paris:20220402T150000
DTEND;TZID=Europe/Paris:20220402T170000
DTSTAMP:20260421T113518
CREATED:20220325T100355Z
LAST-MODIFIED:20220325T100355Z
UID:2300-1648911600-1648918800@solignac.fr
SUMMARY:Bricolages de Pâques
DESCRIPTION:Bricolage de Pâques \nSamedi 2 avril de 15h à 18h \nSalle des mariages au Vigen \nMatériel fourni\, entrée libre et gratuite
URL:https://solignac.fr/event/bricolages-de-paques/
END:VEVENT
END:VCALENDAR