BEGIN:VCALENDAR
VERSION:2.0
PRODID:-// - ECPv5.8.1//NONSGML v1.0//EN
CALSCALE:GREGORIAN
METHOD:PUBLISH
X-ORIGINAL-URL:https://solignac.fr
X-WR-CALDESC:évènements pour 
BEGIN:VTIMEZONE
TZID:Europe/Paris
BEGIN:DAYLIGHT
TZOFFSETFROM:+0100
TZOFFSETTO:+0200
TZNAME:CEST
DTSTART:20250330T010000
END:DAYLIGHT
BEGIN:STANDARD
TZOFFSETFROM:+0200
TZOFFSETTO:+0100
TZNAME:CET
DTSTART:20251026T010000
END:STANDARD
END:VTIMEZONE
BEGIN:VEVENT
DTSTART;TZID=Europe/Paris:20251111T113000
DTEND;TZID=Europe/Paris:20251111T120000
DTSTAMP:20260421T205551
CREATED:20251107T124432Z
LAST-MODIFIED:20251107T124432Z
UID:5695-1762860600-1762862400@solignac.fr
SUMMARY:Cérémonie du 11 novembre
DESCRIPTION:En raison de la cérémonie commémorative du 11 novembre 1918 qui aura lieu à 11h30 sur la place Georges Dubreuil\, le stationnement sera interdit sur la travée devant le monument au mort du lundi 10 novembre 2025 à 18h00 au mardi 11 novembre 2025 à 13h00. \nMerci de votre compréhension.
URL:https://solignac.fr/event/ceremonie-du-11-novembre/
ATTACH;FMTTYPE=image/jpeg:https://solignac.fr/wp-content/uploads/2025/11/Invitation-ceremonie-11-novembre_page-0001.jpg
END:VEVENT
END:VCALENDAR