BEGIN:VCALENDAR
VERSION:2.0
PRODID:-// - ECPv5.8.1//NONSGML v1.0//EN
CALSCALE:GREGORIAN
METHOD:PUBLISH
X-ORIGINAL-URL:https://solignac.fr
X-WR-CALDESC:évènements pour 
BEGIN:VTIMEZONE
TZID:Europe/Paris
BEGIN:DAYLIGHT
TZOFFSETFROM:+0100
TZOFFSETTO:+0200
TZNAME:CEST
DTSTART:20240331T010000
END:DAYLIGHT
BEGIN:STANDARD
TZOFFSETFROM:+0200
TZOFFSETTO:+0100
TZNAME:CET
DTSTART:20241027T010000
END:STANDARD
END:VTIMEZONE
BEGIN:VEVENT
DTSTART;TZID=Europe/Paris:20241214T190000
DTEND;TZID=Europe/Paris:20241214T223000
DTSTAMP:20260424T114011
CREATED:20241114T090448Z
LAST-MODIFIED:20241114T090448Z
UID:4807-1734202800-1734215400@solignac.fr
SUMMARY:Concert de Noël
DESCRIPTION:Un concert se déroulera dans l’abbatiale de Solignac le samedi 14 décembre à 19h00.
URL:https://solignac.fr/event/concert-de-noel/
LOCATION:Abbatiale de Solignac\, Parvis de l'église\, Solignac\, 87110\, France
ATTACH;FMTTYPE=image/jpeg:https://solignac.fr/wp-content/uploads/2024/11/Visuel-concert-de-noel.jpg
END:VEVENT
END:VCALENDAR