BEGIN:VCALENDAR
VERSION:2.0
PRODID:-// - ECPv5.8.1//NONSGML v1.0//EN
CALSCALE:GREGORIAN
METHOD:PUBLISH
X-ORIGINAL-URL:https://solignac.fr
X-WR-CALDESC:évènements pour 
BEGIN:VTIMEZONE
TZID:Europe/Paris
BEGIN:DAYLIGHT
TZOFFSETFROM:+0100
TZOFFSETTO:+0200
TZNAME:CEST
DTSTART:20260329T010000
END:DAYLIGHT
BEGIN:STANDARD
TZOFFSETFROM:+0200
TZOFFSETTO:+0100
TZNAME:CET
DTSTART:20261025T010000
END:STANDARD
END:VTIMEZONE
BEGIN:VEVENT
DTSTART;TZID=Europe/Paris:20260228T200000
DTEND;TZID=Europe/Paris:20260228T233000
DTSTAMP:20260421T152222
CREATED:20260218T105456Z
LAST-MODIFIED:20260218T124126Z
UID:5910-1772308800-1772321400@solignac.fr
SUMMARY:Concours de belote
DESCRIPTION:
URL:https://solignac.fr/event/concours-de-belote-3/
LOCATION:Salle des fêtes de Solignac
ATTACH;FMTTYPE=image/jpeg:https://solignac.fr/wp-content/uploads/2026/02/belote-aclb-rotated.jpg
END:VEVENT
END:VCALENDAR