BEGIN:VCALENDAR
VERSION:2.0
PRODID:-// - ECPv5.8.1//NONSGML v1.0//EN
CALSCALE:GREGORIAN
METHOD:PUBLISH
X-ORIGINAL-URL:https://solignac.fr
X-WR-CALDESC:évènements pour 
BEGIN:VTIMEZONE
TZID:Europe/Paris
BEGIN:DAYLIGHT
TZOFFSETFROM:+0100
TZOFFSETTO:+0200
TZNAME:CEST
DTSTART:20250330T010000
END:DAYLIGHT
BEGIN:STANDARD
TZOFFSETFROM:+0200
TZOFFSETTO:+0100
TZNAME:CET
DTSTART:20251026T010000
END:STANDARD
END:VTIMEZONE
BEGIN:VEVENT
DTSTART;TZID=Europe/Paris:20250713T100000
DTEND;TZID=Europe/Paris:20250817T190000
DTSTAMP:20260422T005531
CREATED:20250619T140548Z
LAST-MODIFIED:20250619T140548Z
UID:5197-1752400800-1755457200@solignac.fr
SUMMARY:Exposition - Maison de la Fanfare
DESCRIPTION:Exposition d’art à la Maison de la Fanfare\, rue de la Peyrade de 13 juillet au 17 août de 10h00 à 19h00.  \nNeuf artisan(e/s) exposeront leurs œuvres (cuir\, céramique\, perles\, osier\, cartons…)
URL:https://solignac.fr/event/exposition-maison-de-la-fanfare-2/
LOCATION:Maison de la Fanfare\, 1 rue de la Peyrade\, Solignac\, 87110\, France
ATTACH;FMTTYPE=image/jpeg:https://solignac.fr/wp-content/uploads/2025/06/EXPO-FANFARE-BIS.jpg
END:VEVENT
END:VCALENDAR