BEGIN:VCALENDAR
VERSION:2.0
PRODID:-// - ECPv5.8.1//NONSGML v1.0//EN
CALSCALE:GREGORIAN
METHOD:PUBLISH
X-ORIGINAL-URL:https://solignac.fr
X-WR-CALDESC:évènements pour 
BEGIN:VTIMEZONE
TZID:Europe/Paris
BEGIN:DAYLIGHT
TZOFFSETFROM:+0100
TZOFFSETTO:+0200
TZNAME:CEST
DTSTART:20250330T010000
END:DAYLIGHT
BEGIN:STANDARD
TZOFFSETFROM:+0200
TZOFFSETTO:+0100
TZNAME:CET
DTSTART:20251026T010000
END:STANDARD
END:VTIMEZONE
BEGIN:VEVENT
DTSTART;TZID=Europe/Paris:20250713T143000
DTEND;TZID=Europe/Paris:20250817T190000
DTSTAMP:20260422T005224
CREATED:20250619T140354Z
LAST-MODIFIED:20250619T140354Z
UID:5194-1752417000-1755457200@solignac.fr
SUMMARY:Exposition - Moulin de Quatre
DESCRIPTION:Exposition d’art au Moulin de Quatre\, Place de la Briance du 13 juillet au 17 août de 14h30 à 19h00. Œuvre de Bernard LACHANIETTE
URL:https://solignac.fr/event/exposition-moulin-de-quatre-2/
LOCATION:Moulin de Quatre
ATTACH;FMTTYPE=image/jpeg:https://solignac.fr/wp-content/uploads/2025/06/EXPOSITION-MOULIN_page-0001.jpg
END:VEVENT
END:VCALENDAR