BEGIN:VCALENDAR
VERSION:2.0
PRODID:-// - ECPv5.8.1//NONSGML v1.0//EN
CALSCALE:GREGORIAN
METHOD:PUBLISH
X-ORIGINAL-URL:https://solignac.fr
X-WR-CALDESC:évènements pour 
BEGIN:VTIMEZONE
TZID:Europe/Paris
BEGIN:DAYLIGHT
TZOFFSETFROM:+0100
TZOFFSETTO:+0200
TZNAME:CEST
DTSTART:20240331T010000
END:DAYLIGHT
BEGIN:STANDARD
TZOFFSETFROM:+0200
TZOFFSETTO:+0100
TZNAME:CET
DTSTART:20241027T010000
END:STANDARD
END:VTIMEZONE
BEGIN:VEVENT
DTSTART;TZID=Europe/Paris:20240831T100000
DTEND;TZID=Europe/Paris:20240831T170000
DTSTAMP:20260424T152113
CREATED:20240712T075145Z
LAST-MODIFIED:20240712T075145Z
UID:4554-1725098400-1725123600@solignac.fr
SUMMARY:Forum des assocations
DESCRIPTION:Le forum des associations aura lieu cette année au centre culturel sur le commune Le Vigen le samedi 31 août 2024. Rencontre\, essai et prise de contact. \nVenez nombreux !
URL:https://solignac.fr/event/forum-des-assocations/
LOCATION:Centre culturel polyvalent LE VIGEN
ATTACH;FMTTYPE=image/jpeg:https://solignac.fr/wp-content/uploads/2024/07/forum-associations-2024-4_page-0001.jpg
END:VEVENT
END:VCALENDAR