BEGIN:VCALENDAR
VERSION:2.0
PRODID:-// - ECPv5.8.1//NONSGML v1.0//EN
CALSCALE:GREGORIAN
METHOD:PUBLISH
X-ORIGINAL-URL:https://solignac.fr
X-WR-CALDESC:évènements pour 
BEGIN:VTIMEZONE
TZID:Europe/Paris
BEGIN:DAYLIGHT
TZOFFSETFROM:+0100
TZOFFSETTO:+0200
TZNAME:CEST
DTSTART:20240331T010000
END:DAYLIGHT
BEGIN:STANDARD
TZOFFSETFROM:+0200
TZOFFSETTO:+0100
TZNAME:CET
DTSTART:20241027T010000
END:STANDARD
END:VTIMEZONE
BEGIN:VEVENT
DTSTART;VALUE=DATE:20241102
DTEND;VALUE=DATE:20241103
DTSTAMP:20260424T125158
CREATED:20240308T134702Z
LAST-MODIFIED:20241002T091257Z
UID:4219-1730505600-1730591999@solignac.fr
SUMMARY:Huîtres en fête
DESCRIPTION:Retrouvez l’édition 2024 de « L’huitre en fête » le samedi 2 novembre 2024 de 9h00 à 18h00 !  \nRestauration sur place ou à emporter !  \nLes modalités concernant le stationnement seront communiquées ultérieurement. \n 
URL:https://solignac.fr/event/huitres-en-fete/
LOCATION:Place Georges Dubreuil\, Place georges Dubreuil\, Solignac\, 87110\, France
ATTACH;FMTTYPE=image/jpeg:https://solignac.fr/wp-content/uploads/2024/03/TRACT-2024-001-OK-scaled.jpg
END:VEVENT
END:VCALENDAR