BEGIN:VCALENDAR
VERSION:2.0
PRODID:-// - ECPv5.8.1//NONSGML v1.0//EN
CALSCALE:GREGORIAN
METHOD:PUBLISH
X-ORIGINAL-URL:https://solignac.fr
X-WR-CALDESC:évènements pour 
BEGIN:VTIMEZONE
TZID:Europe/Paris
BEGIN:DAYLIGHT
TZOFFSETFROM:+0100
TZOFFSETTO:+0200
TZNAME:CEST
DTSTART:20250330T010000
END:DAYLIGHT
BEGIN:STANDARD
TZOFFSETFROM:+0200
TZOFFSETTO:+0100
TZNAME:CET
DTSTART:20251026T010000
END:STANDARD
END:VTIMEZONE
BEGIN:VEVENT
DTSTART;TZID=Europe/Paris:20251213T120000
DTEND;TZID=Europe/Paris:20251213T180000
DTSTAMP:20260421T192145
CREATED:20251107T124944Z
LAST-MODIFIED:20251107T124944Z
UID:5704-1765627200-1765648800@solignac.fr
SUMMARY:Repas des ainés
DESCRIPTION:Vous avez plus de 65 ans (né(e) avant le 31/12/1960) et vous souhaitez participer au repas\, merci de bien vouloir vous inscrire en remplissant le coupon réponse ci-joint. Une participation financière pour le repas sera demandée au conjoint(e) accompagnant s’il a moins de 65 ans. \nSi vous rencontrez des difficultés de locomotion\, merci de le préciser : nous pourrons venir vous chercher et vous ramener quand vous le souhaiterez. \nLes personnes de plus de 70 ans (né(e) avant le 31/12/1955) ne pouvant ou ne voulant pas venir au repas peuvent s’inscrire sur le coupon réponse pour recevoir un colis gourmand. Il sera distribué à votre domicile par l’équipe municipale dans les quinze premiers jours de janvier. \nVous avez également la possibilité de faire don du montant du colis au Centre Communal d’Action Sociale. Vous pouvez le préciser sur le coupon-réponse.
URL:https://solignac.fr/event/repas-des-aines/
LOCATION:Salle des fêtes de Solignac
ATTACH;FMTTYPE=image/jpeg:https://solignac.fr/wp-content/uploads/2025/11/Repas-des-aines-2025.jpg
END:VEVENT
END:VCALENDAR