BEGIN:VCALENDAR
VERSION:2.0
PRODID:-// - ECPv5.8.1//NONSGML v1.0//EN
CALSCALE:GREGORIAN
METHOD:PUBLISH
X-ORIGINAL-URL:https://solignac.fr
X-WR-CALDESC:évènements pour 
BEGIN:VTIMEZONE
TZID:Europe/Paris
BEGIN:DAYLIGHT
TZOFFSETFROM:+0100
TZOFFSETTO:+0200
TZNAME:CEST
DTSTART:20260329T010000
END:DAYLIGHT
BEGIN:STANDARD
TZOFFSETFROM:+0200
TZOFFSETTO:+0100
TZNAME:CET
DTSTART:20261025T010000
END:STANDARD
END:VTIMEZONE
BEGIN:VEVENT
DTSTART;TZID=Europe/Paris:20260117T203000
DTEND;TZID=Europe/Paris:20260117T223000
DTSTAMP:20260421T180720
CREATED:20251217T100152Z
LAST-MODIFIED:20251217T100202Z
UID:5813-1768681800-1768689000@solignac.fr
SUMMARY:Théâtre
DESCRIPTION:Le collectif les Fanfarons organise une représentation d’une pièce de théâtre le samedi 17 janvier 2026 à 20h30 à la salle des fêtes de Solignac. \nTarif entrée: 10 euros \nTarif enfant: 5 euros \nRéservation: 07 62 76 46 53
URL:https://solignac.fr/event/theatre-2/
LOCATION:Salle des fêtes de Solignac
ATTACH;FMTTYPE=image/jpeg:https://solignac.fr/wp-content/uploads/2025/12/affiche-Theatre.jpg
END:VEVENT
END:VCALENDAR