BEGIN:VCALENDAR
VERSION:2.0
PRODID:-// - ECPv5.8.1//NONSGML v1.0//EN
CALSCALE:GREGORIAN
METHOD:PUBLISH
X-ORIGINAL-URL:https://solignac.fr
X-WR-CALDESC:évènements pour 
BEGIN:VTIMEZONE
TZID:Europe/Paris
BEGIN:DAYLIGHT
TZOFFSETFROM:+0100
TZOFFSETTO:+0200
TZNAME:CEST
DTSTART:20260329T010000
END:DAYLIGHT
BEGIN:STANDARD
TZOFFSETFROM:+0200
TZOFFSETTO:+0100
TZNAME:CET
DTSTART:20261025T010000
END:STANDARD
END:VTIMEZONE
BEGIN:VEVENT
DTSTART;TZID=Europe/Paris:20260106T190000
DTEND;TZID=Europe/Paris:20260106T213000
DTSTAMP:20260421T180950
CREATED:20251217T100522Z
LAST-MODIFIED:20251217T100522Z
UID:5819-1767726000-1767735000@solignac.fr
SUMMARY:Vœux du Maire 2026
DESCRIPTION:Monsieur le Maire\, Alexandre PORTHEAULT et l’ensemble du Conseil Municipal de Solignac vous invitent à participer à la cérémonie des voeux qui se déroulera à la salle des fêtes de Solignac\, le 6 janvier 2025 à 19h00.
URL:https://solignac.fr/event/voeux-du-maire-2026/
LOCATION:Salle des fêtes de Solignac
ATTACH;FMTTYPE=image/jpeg:https://solignac.fr/wp-content/uploads/2025/12/VOEUX-2026.jpg
END:VEVENT
END:VCALENDAR