BEGIN:VCALENDAR
VERSION:2.0
PRODID:-// - ECPv5.8.1//NONSGML v1.0//EN
CALSCALE:GREGORIAN
METHOD:PUBLISH
X-ORIGINAL-URL:https://solignac.fr
X-WR-CALDESC:évènements pour 
BEGIN:VTIMEZONE
TZID:Europe/Paris
BEGIN:DAYLIGHT
TZOFFSETFROM:+0100
TZOFFSETTO:+0200
TZNAME:CEST
DTSTART:20250330T010000
END:DAYLIGHT
BEGIN:STANDARD
TZOFFSETFROM:+0200
TZOFFSETTO:+0100
TZNAME:CET
DTSTART:20251026T010000
END:STANDARD
END:VTIMEZONE
BEGIN:VEVENT
DTSTART;TZID=Europe/Paris:20250410T183000
DTEND;TZID=Europe/Paris:20250410T200000
DTSTAMP:20260422T061852
CREATED:20250328T084034Z
LAST-MODIFIED:20250328T084034Z
UID:5045-1744309800-1744315200@solignac.fr
SUMMARY:World Café
DESCRIPTION:Le Guichet Habitat Limoges Métropole organise le 10 avril 2025\, un World Café autour des thèmes de l’habitat et du Patrimoine à Solignac. \n⚠️Inscription recommandée! \nPlus d’information ci-dessous⬇️ \nhttps://guichet-habitat.limoges-metropole.fr/informations-transversales/actualites/work-cafe-a-solignac-sur-les-thematiques-de-lhabitat-et-du-patrimoine-59890
URL:https://solignac.fr/event/world-cafe/
LOCATION:Moulin de Quatre
END:VEVENT
END:VCALENDAR